BEGIN:VCALENDAR
PRODID:-//Dacoda ehf//Skolamatur matsedill//EN
VERSION:2.0
CALSCALE:GREGORIAN
METHOD:PUBLISH
X-WR-CALNAME:Skólamatur - matseðill
X-WR-TIMEZONE:Atlantic/Reykjavik
BEGIN:VTIMEZONE
TZID:Atlantic/Reykjavik
X-LIC-LOCATION:Atlantic/Reykjavik
BEGIN:STANDARD
TZOFFSETFROM:+0000
TZOFFSETTO:+0000
TZNAME:GMT
DTSTART:19700101T000000
END:STANDARD
END:VTIMEZONE
BEGIN:VEVENT
DTSTART:20260420T113000Z
DTEND:20260420T123000Z
DTSTAMP:20260421T000000Z
UID:e50315ea0822db0cdf781106388bc56473e35798
DESCRIPTION:Steiktur kornflexfiskur með kartöflum og kokteilsósu\n\nMeðlætisbar:\nKál, Paprikur, Gúrkur, Tómatar, Gulrætur, Brokkolí, Perur, Appelsínur\n\nVeganréttur:\nBrokkolíbuff
LAST-MODIFIED:20260421T000000Z
LOCATION:Valhúsaskóli
STATUS:CONFIRMED
SUMMARY:Steiktur kornflexfiskur með kartöflum og kokteilsósu
TRANSP:OPAQUE
END:VEVENT
BEGIN:VEVENT
DTSTART:20260421T113000Z
DTEND:20260421T123000Z
DTSTAMP:20260421T000000Z
UID:9376cf6a230b4f78a655d1ae04c2a8fd4012c7fc
DESCRIPTION:Mexikóskar tortilla pönnukökur með hakksósu, sýrðum rjóma og osti\n\nMeðlætisbar:\nKál, Paprikur, Gúrkur, Tómatar, Rauðlaukur, Nýrnabaunir, Vegan salatostur, Epli, Ananas\n\nVeganréttur:\nMexikóskar tortilla pönnukökur með vegan hakksósu, sýrðum rjóma og osti
LAST-MODIFIED:20260421T000000Z
LOCATION:Valhúsaskóli
STATUS:CONFIRMED
SUMMARY:Mexikóskar tortilla pönnukökur með hakksósu, sýrðum rjóma og osti
TRANSP:OPAQUE
END:VEVENT
BEGIN:VEVENT
DTSTART:20260422T113000Z
DTEND:20260422T123000Z
DTSTAMP:20260421T000000Z
UID:7465c8bcb4e3c09493a3ac8a49e377862e29fbab
DESCRIPTION:Austurlenskt svínakjöt í súrsætri sósu með hýðishrísgrjónum\n\nMeðlætisbar:\nSpínat, Paprikur, Gúrkur, Tómatar, Gulrætur, Blómkál, Kínóa með kjúklingabaunum, Bananar, Melónur\n\nVeganréttur:\nAsískar grænmetisbollur
LAST-MODIFIED:20260421T000000Z
LOCATION:Valhúsaskóli
STATUS:CONFIRMED
SUMMARY:Austurlenskt svínakjöt í súrsætri sósu með hýðishrísgrjónum
TRANSP:OPAQUE
END:VEVENT
BEGIN:VEVENT
DTSTART:20260423T113000Z
DTEND:20260423T123000Z
DTSTAMP:20260421T000000Z
UID:c74dda53d7aa87ae03b274636d43be437eef5abb
DESCRIPTION:Frí allir
LAST-MODIFIED:20260421T000000Z
LOCATION:Valhúsaskóli
STATUS:CONFIRMED
SUMMARY:Frí allir
TRANSP:OPAQUE
END:VEVENT
BEGIN:VEVENT
DTSTART:20260424T113000Z
DTEND:20260424T123000Z
DTSTAMP:20260421T000000Z
UID:94249b44e9219212c818c4b4993559a04be18b12
DESCRIPTION:Frí
LAST-MODIFIED:20260421T000000Z
LOCATION:Valhúsaskóli
STATUS:CONFIRMED
SUMMARY:Frí
TRANSP:OPAQUE
END:VEVENT
BEGIN:VEVENT
DTSTART:20260427T113000Z
DTEND:20260427T123000Z
DTSTAMP:20260421T000000Z
UID:1dc0489ad16b584e172fffc72497a1b082b358ab
DESCRIPTION:Karrýkryddaður plokkfiskur með rúgbrauði\n\nMeðlætisbar:\nKál, Paprikur, Gúrkur, Tómatar, Brokkolí, Gulrætur, Perur, Appelsínur\n\nVeganréttur:\nGrænmetislasagna
LAST-MODIFIED:20260421T000000Z
LOCATION:Valhúsaskóli
STATUS:CONFIRMED
SUMMARY:Karrýkryddaður plokkfiskur með rúgbrauði
TRANSP:OPAQUE
END:VEVENT
BEGIN:VEVENT
DTSTART:20260428T113000Z
DTEND:20260428T123000Z
DTSTAMP:20260421T000000Z
UID:f92a02a5070120a45253871e6747b4835681ec29
DESCRIPTION:Hakkabuff með kartöflumús og brúnni sósu\n\nMeðlætisbar:\nKál, Paprikur, Gúrkur, Tómatar, Rauðkál, Grænar baunir, Epli, Perur\n\nVeganréttur:\nFalafel buff
LAST-MODIFIED:20260421T000000Z
LOCATION:Valhúsaskóli
STATUS:CONFIRMED
SUMMARY:Hakkabuff með kartöflumús og brúnni sósu
TRANSP:OPAQUE
END:VEVENT
BEGIN:VEVENT
DTSTART:20260429T113000Z
DTEND:20260429T123000Z
DTSTAMP:20260421T000000Z
UID:224957458f5c3eed3e4b65946c85c6b35cb7efe3
DESCRIPTION:Soðinn lax og ýsa með kartöflum, bræddu smjöri og rúgbrauði\n\nMeðlætisbar:\nSalatblanda, Paprikur, Gúrkur, Tómatar, Rófur, Sítrónur, Pasta með þúsundeyjasósu og paprikublöndu, Epli, Melónur\n\nVeganréttur:\nAsískar grænmetisbollur
LAST-MODIFIED:20260421T000000Z
LOCATION:Valhúsaskóli
STATUS:CONFIRMED
SUMMARY:Soðinn lax og ýsa með kartöflum, bræddu smjöri og rúgbrauði
TRANSP:OPAQUE
END:VEVENT
BEGIN:VEVENT
DTSTART:20260430T113000Z
DTEND:20260430T123000Z
DTSTAMP:20260421T000000Z
UID:ca1646605df897c6cc0829bc7f90055ac4c27ebc
DESCRIPTION:Toskana bollur í marinara sósu með spaghetti\n\nMeðlætisbar:\nSalatblanda, Paprikur, Gúrkur, Tómatar, Gulrætur, Kjúklingabaunir, Appelsínur, Bananar\n\nVeganréttur:\nÍtalskar vegan bollur
LAST-MODIFIED:20260421T000000Z
LOCATION:Valhúsaskóli
STATUS:CONFIRMED
SUMMARY:Toskana bollur í marinara sósu með spaghetti
TRANSP:OPAQUE
END:VEVENT
BEGIN:VEVENT
DTSTART:20260501T113000Z
DTEND:20260501T123000Z
DTSTAMP:20260421T000000Z
UID:43d45fd4556ae02d6cb08ce77e536fcb326f768e
DESCRIPTION:Verkalýðsdagurinn
LAST-MODIFIED:20260421T000000Z
LOCATION:Valhúsaskóli
STATUS:CONFIRMED
SUMMARY:Verkalýðsdagurinn
TRANSP:OPAQUE
END:VEVENT
END:VCALENDAR
